BEGIN:VCALENDAR
VERSION:2.0
PRODID:-//War Wizard Monster Truck - ECPv6.15.20//NONSGML v1.0//EN
CALSCALE:GREGORIAN
METHOD:PUBLISH
X-ORIGINAL-URL:https://warwizardracing.com
X-WR-CALDESC:Events for War Wizard Monster Truck
REFRESH-INTERVAL;VALUE=DURATION:PT1H
X-Robots-Tag:noindex
X-PUBLISHED-TTL:PT1H
BEGIN:VTIMEZONE
TZID:UTC
BEGIN:STANDARD
TZOFFSETFROM:+0000
TZOFFSETTO:+0000
TZNAME:UTC
DTSTART:20250101T000000
END:STANDARD
END:VTIMEZONE
BEGIN:VEVENT
DTSTART;TZID=UTC:20260714T080000
DTEND;TZID=UTC:20260715T170000
DTSTAMP:20260423T212814
CREATED:20260421T143744Z
LAST-MODIFIED:20260421T143744Z
UID:759-1784016000-1784134800@warwizardracing.com
SUMMARY:Warsaw IN Monster Trucks Unleashed
DESCRIPTION:
URL:https://warwizardracing.com/event/warsaw-in-monster-trucks-unleashed/
END:VEVENT
END:VCALENDAR