BEGIN:VCALENDAR
VERSION:2.0
PRODID:-//War Wizard Monster Truck - ECPv6.15.20//NONSGML v1.0//EN
CALSCALE:GREGORIAN
METHOD:PUBLISH
X-WR-CALNAME:War Wizard Monster Truck
X-ORIGINAL-URL:https://warwizardracing.com
X-WR-CALDESC:Events for War Wizard Monster Truck
REFRESH-INTERVAL;VALUE=DURATION:PT1H
X-Robots-Tag:noindex
X-PUBLISHED-TTL:PT1H
BEGIN:VTIMEZONE
TZID:UTC
BEGIN:STANDARD
TZOFFSETFROM:+0000
TZOFFSETTO:+0000
TZNAME:UTC
DTSTART:20240101T000000
END:STANDARD
END:VTIMEZONE
BEGIN:VEVENT
DTSTART;TZID=UTC:20260627T000000
DTEND;TZID=UTC:20260627T235959
DTSTAMP:20260424T001547
CREATED:20260421T142915Z
LAST-MODIFIED:20260421T142915Z
UID:755-1782518400-1782604799@warwizardracing.com
SUMMARY:Waynesburg PA Renegade
DESCRIPTION:
URL:https://warwizardracing.com/event/waynesburg-pa-renegade/
END:VEVENT
BEGIN:VEVENT
DTSTART;TZID=UTC:20260620T080000
DTEND;TZID=UTC:20260621T170000
DTSTAMP:20260424T001547
CREATED:20260421T142805Z
LAST-MODIFIED:20260421T142805Z
UID:753-1781942400-1782061200@warwizardracing.com
SUMMARY:Berlin NJ Renegade
DESCRIPTION:
URL:https://warwizardracing.com/event/berlin-nj-renegade/
END:VEVENT
BEGIN:VEVENT
DTSTART;TZID=UTC:20260606T080000
DTEND;TZID=UTC:20260606T170000
DTSTAMP:20260424T001547
CREATED:20260421T142647Z
LAST-MODIFIED:20260421T142647Z
UID:751-1780732800-1780765200@warwizardracing.com
SUMMARY:Fredrick MD Renegade
DESCRIPTION:
URL:https://warwizardracing.com/event/fredrick-md-renegade/
END:VEVENT
BEGIN:VEVENT
DTSTART;TZID=UTC:20260501T080000
DTEND;TZID=UTC:20260503T170000
DTSTAMP:20260424T001547
CREATED:20260421T142251Z
LAST-MODIFIED:20260421T142251Z
UID:747-1777622400-1777827600@warwizardracing.com
SUMMARY:Crownsville MD Renegade
DESCRIPTION:
URL:https://warwizardracing.com/event/crownsville-md-renegade/
END:VEVENT
BEGIN:VEVENT
DTSTART;TZID=UTC:20260425T000000
DTEND;TZID=UTC:20260425T235959
DTSTAMP:20260424T001547
CREATED:20260421T141944Z
LAST-MODIFIED:20260421T141944Z
UID:745-1777075200-1777161599@warwizardracing.com
SUMMARY:Gaithersburg MD Renegade
DESCRIPTION:
URL:https://warwizardracing.com/event/gaithersburg-md-renegade/
END:VEVENT
BEGIN:VEVENT
DTSTART;TZID=UTC:20260421T000000
DTEND;TZID=UTC:20260421T235959
DTSTAMP:20260424T001547
CREATED:20260421T142453Z
LAST-MODIFIED:20260421T142453Z
UID:749-1776729600-1776815999@warwizardracing.com
SUMMARY:Berea OH Renegade
DESCRIPTION:
URL:https://warwizardracing.com/event/berea-oh-renegade/
END:VEVENT
BEGIN:VEVENT
DTSTART;TZID=UTC:20260227T000000
DTEND;TZID=UTC:20260228T235959
DTSTAMP:20260424T001547
CREATED:20260131T194807Z
LAST-MODIFIED:20260131T194807Z
UID:491-1772150400-1772323199@warwizardracing.com
SUMMARY:Springfield MO Outlaw Nationals
DESCRIPTION:
URL:https://warwizardracing.com/event/springfield-mo-outlaw-nationals/
END:VEVENT
BEGIN:VEVENT
DTSTART;TZID=UTC:20260220T000000
DTEND;TZID=UTC:20260221T235959
DTSTAMP:20260424T001547
CREATED:20260131T194723Z
LAST-MODIFIED:20260131T194723Z
UID:489-1771545600-1771718399@warwizardracing.com
SUMMARY:Odessa Texas Outlaw Nationals
DESCRIPTION:
URL:https://warwizardracing.com/event/odessa-texas-outlaw-nationals/
END:VEVENT
BEGIN:VEVENT
DTSTART;TZID=UTC:20251011T000000
DTEND;TZID=UTC:20251011T235959
DTSTAMP:20260424T001547
CREATED:20250727T125514Z
LAST-MODIFIED:20250727T125514Z
UID:479-1760140800-1760227199@warwizardracing.com
SUMMARY:Linde Welding Display\, Hagerstown MD
DESCRIPTION:
URL:https://warwizardracing.com/event/linde-welding-display-hagerstown-md/
END:VEVENT
BEGIN:VEVENT
DTSTART;TZID=UTC:20251004T080000
DTEND;TZID=UTC:20251004T170000
DTSTAMP:20260424T001547
CREATED:20250727T125424Z
LAST-MODIFIED:20250727T125424Z
UID:477-1759564800-1759597200@warwizardracing.com
SUMMARY:The Buck\, Renegade
DESCRIPTION:
URL:https://warwizardracing.com/event/the-buck-renegade/
END:VEVENT
BEGIN:VEVENT
DTSTART;TZID=UTC:20250906T000000
DTEND;TZID=UTC:20250906T235959
DTSTAMP:20260424T001547
CREATED:20250727T124949Z
LAST-MODIFIED:20250727T124949Z
UID:471-1757116800-1757203199@warwizardracing.com
SUMMARY:Lonesome Pine VA
DESCRIPTION:
URL:https://warwizardracing.com/event/lonesome-pine-va/
END:VEVENT
BEGIN:VEVENT
DTSTART;TZID=UTC:20250813T000000
DTEND;TZID=UTC:20250814T235959
DTSTAMP:20260424T001547
CREATED:20250727T124707Z
LAST-MODIFIED:20250727T124707Z
UID:467-1755043200-1755215999@warwizardracing.com
SUMMARY:Gaithersburg MD Fair
DESCRIPTION:
URL:https://warwizardracing.com/event/gaithersburg-md-fair/
END:VEVENT
BEGIN:VEVENT
DTSTART;TZID=UTC:20250801T000000
DTEND;TZID=UTC:20250802T235959
DTSTAMP:20260424T001547
CREATED:20241216T185912Z
LAST-MODIFIED:20250107T194313Z
UID:348-1754006400-1754179199@warwizardracing.com
SUMMARY:Little Valley New York\, TMS
DESCRIPTION:
URL:https://warwizardracing.com/event/little-valley-new-york/
END:VEVENT
BEGIN:VEVENT
DTSTART;TZID=UTC:20250729T000000
DTEND;TZID=UTC:20250729T235959
DTSTAMP:20260424T001547
CREATED:20241216T185912Z
LAST-MODIFIED:20250107T194041Z
UID:346-1753747200-1753833599@warwizardracing.com
SUMMARY:Petersburg West Virginia\, Renegade
DESCRIPTION:
URL:https://warwizardracing.com/event/petersburg-west-virginia-renegade/
END:VEVENT
BEGIN:VEVENT
DTSTART;TZID=UTC:20250727T080000
DTEND;TZID=UTC:20250727T170000
DTSTAMP:20260424T001547
CREATED:20250727T124824Z
LAST-MODIFIED:20250727T124824Z
UID:469-1753603200-1753635600@warwizardracing.com
SUMMARY:Pocomoke MD\, Renegade
DESCRIPTION:
URL:https://warwizardracing.com/event/pocomoke-md-renegade/
END:VEVENT
END:VCALENDAR