BEGIN:VCALENDAR
VERSION:2.0
PRODID:-//War Wizard Monster Truck - ECPv6.15.20//NONSGML v1.0//EN
CALSCALE:GREGORIAN
METHOD:PUBLISH
X-ORIGINAL-URL:https://warwizardracing.com
X-WR-CALDESC:Events for War Wizard Monster Truck
REFRESH-INTERVAL;VALUE=DURATION:PT1H
X-Robots-Tag:noindex
X-PUBLISHED-TTL:PT1H
BEGIN:VTIMEZONE
TZID:UTC
BEGIN:STANDARD
TZOFFSETFROM:+0000
TZOFFSETTO:+0000
TZNAME:UTC
DTSTART:20250101T000000
END:STANDARD
END:VTIMEZONE
BEGIN:VEVENT
DTSTART;TZID=UTC:20260807T080000
DTEND;TZID=UTC:20260808T170000
DTSTAMP:20260424T001721
CREATED:20260421T144945Z
LAST-MODIFIED:20260421T144945Z
UID:763-1786089600-1786208400@warwizardracing.com
SUMMARY:Little Valley NY Monster Trucks Unleashed
DESCRIPTION:
URL:https://warwizardracing.com/event/little-valley-ny-monster-trucks-unleashed/
END:VEVENT
BEGIN:VEVENT
DTSTART;TZID=UTC:20260815T000000
DTEND;TZID=UTC:20260815T235959
DTSTAMP:20260424T001721
CREATED:20260421T145117Z
LAST-MODIFIED:20260421T145117Z
UID:765-1786752000-1786838399@warwizardracing.com
SUMMARY:Swansboro NC Renegade
DESCRIPTION:
URL:https://warwizardracing.com/event/swansboro-nc-renegade/
END:VEVENT
BEGIN:VEVENT
DTSTART;TZID=UTC:20260819T080000
DTEND;TZID=UTC:20260820T170000
DTSTAMP:20260424T001721
CREATED:20260421T145212Z
LAST-MODIFIED:20260421T145212Z
UID:767-1787126400-1787245200@warwizardracing.com
SUMMARY:Appalachian Fair Monster Trucks Unleashed
DESCRIPTION:
URL:https://warwizardracing.com/event/appalachian-fair-monster-trucks-unleashed/
END:VEVENT
BEGIN:VEVENT
DTSTART;TZID=UTC:20260829T000000
DTEND;TZID=UTC:20260829T235959
DTSTAMP:20260424T001721
CREATED:20260421T145413Z
LAST-MODIFIED:20260421T145413Z
UID:769-1787961600-1788047999@warwizardracing.com
SUMMARY:Quarryville PA Renegade
DESCRIPTION:
URL:https://warwizardracing.com/event/quarryville-pa-renegade/
END:VEVENT
END:VCALENDAR